BEGIN:VCALENDAR
VERSION:2.0
PRODID:-//Pohjois-Karjalan biosfäärialue - ECPv6.15.20//NONSGML v1.0//EN
CALSCALE:GREGORIAN
METHOD:PUBLISH
X-ORIGINAL-URL:https://kareliabiosphere.fi/en
X-WR-CALDESC:Events for Pohjois-Karjalan biosfäärialue
REFRESH-INTERVAL;VALUE=DURATION:PT1H
X-Robots-Tag:noindex
X-PUBLISHED-TTL:PT1H
BEGIN:VTIMEZONE
TZID:Europe/Helsinki
BEGIN:DAYLIGHT
TZOFFSETFROM:+0200
TZOFFSETTO:+0300
TZNAME:EEST
DTSTART:20140330T010000
END:DAYLIGHT
BEGIN:STANDARD
TZOFFSETFROM:+0300
TZOFFSETTO:+0200
TZNAME:EET
DTSTART:20141026T010000
END:STANDARD
BEGIN:DAYLIGHT
TZOFFSETFROM:+0200
TZOFFSETTO:+0300
TZNAME:EEST
DTSTART:20150329T010000
END:DAYLIGHT
BEGIN:STANDARD
TZOFFSETFROM:+0300
TZOFFSETTO:+0200
TZNAME:EET
DTSTART:20151025T010000
END:STANDARD
BEGIN:DAYLIGHT
TZOFFSETFROM:+0200
TZOFFSETTO:+0300
TZNAME:EEST
DTSTART:20160327T010000
END:DAYLIGHT
BEGIN:STANDARD
TZOFFSETFROM:+0300
TZOFFSETTO:+0200
TZNAME:EET
DTSTART:20161030T010000
END:STANDARD
END:VTIMEZONE
BEGIN:VEVENT
DTSTART;VALUE=DATE:20150611
DTEND;VALUE=DATE:20150612
DTSTAMP:20260423T045905
CREATED:20150506T062633Z
LAST-MODIFIED:20150506T062633Z
UID:3045-1433980800-1434067199@kareliabiosphere.fi
SUMMARY:Save National Park
DESCRIPTION:Fusce a ante nisl\, vitae pretium enim. Nunc imperdiet iaculis augue nec porta! Phasellus congue sapien eget libero ornare lobortis. Aliquam sit amet nulla velit\, in posuere tellus. Nul lorem.
URL:https://kareliabiosphere.fi/en/event/save-national-park/
LOCATION:[{{{site.name}}}] New message from {{sender.name}}
END:VEVENT
BEGIN:VEVENT
DTSTART;VALUE=DATE:20150611
DTEND;VALUE=DATE:20150612
DTSTAMP:20260423T045905
CREATED:20150506T062946Z
LAST-MODIFIED:20150506T062946Z
UID:3053-1433980800-1434067199@kareliabiosphere.fi
SUMMARY:Rock Concert
DESCRIPTION:Hey\, Luke! May the Force be with you. Look\, I ain’t in this for your revolution\, and I’m not in it for you\, Princess. I expect to be well paid. I’m in it for the money. Ye-ha! What good is a reward if you ain’t around to use it? Besides\, attacking that battle station ain’t my idea of courage. It’s more like…suicide. Hey\, Luke! May the Force be with you. But with the blast shield down\, I can’t even see! How am I supposed to fight?
URL:https://kareliabiosphere.fi/en/event/rock-concert/
LOCATION:[{{{site.name}}}] Uusi viesti jäseneltä {{sender.name}}
CATEGORIES:Nightlife
END:VEVENT
END:VCALENDAR