BEGIN:VCALENDAR
VERSION:2.0
PRODID:-//Pohjois-Karjalan biosfäärialue - ECPv6.15.20//NONSGML v1.0//EN
CALSCALE:GREGORIAN
METHOD:PUBLISH
X-ORIGINAL-URL:https://kareliabiosphere.fi
X-WR-CALDESC:Tapahtumat Pohjois-Karjalan biosfäärialue
REFRESH-INTERVAL;VALUE=DURATION:PT1H
X-Robots-Tag:noindex
X-PUBLISHED-TTL:PT1H
BEGIN:VTIMEZONE
TZID:Europe/Helsinki
BEGIN:DAYLIGHT
TZOFFSETFROM:+0200
TZOFFSETTO:+0300
TZNAME:EEST
DTSTART:20140330T010000
END:DAYLIGHT
BEGIN:STANDARD
TZOFFSETFROM:+0300
TZOFFSETTO:+0200
TZNAME:EET
DTSTART:20141026T010000
END:STANDARD
BEGIN:DAYLIGHT
TZOFFSETFROM:+0200
TZOFFSETTO:+0300
TZNAME:EEST
DTSTART:20150329T010000
END:DAYLIGHT
BEGIN:STANDARD
TZOFFSETFROM:+0300
TZOFFSETTO:+0200
TZNAME:EET
DTSTART:20151025T010000
END:STANDARD
BEGIN:DAYLIGHT
TZOFFSETFROM:+0200
TZOFFSETTO:+0300
TZNAME:EEST
DTSTART:20160327T010000
END:DAYLIGHT
BEGIN:STANDARD
TZOFFSETFROM:+0300
TZOFFSETTO:+0200
TZNAME:EET
DTSTART:20161030T010000
END:STANDARD
END:VTIMEZONE
BEGIN:VEVENT
DTSTART;VALUE=DATE:20150530
DTEND;VALUE=DATE:20150531
DTSTAMP:20260423T045435
CREATED:20150506T062946Z
LAST-MODIFIED:20150506T062946Z
UID:3048-1432944000-1433030399@kareliabiosphere.fi
SUMMARY:Movie Marathon
DESCRIPTION:What’s the point of going out? We’re just going to wind up back here anyway. I’m going to the back seat of my car\, with the woman I love\, and I won’t be back for ten minutes! And now\, in the spirit of the season: start shopping. And for every dollar of Krusty merchandise you buy\, I will be nice to a sick kid. For legal purposes\, sick kids may include hookers with a cold. The Internet King? I wonder if he could provide faster nudity… Yes! I am a citizen! Now which way to the welfare office? I’m kidding\, I’m kidding. I work\, I work.
URL:https://kareliabiosphere.fi/event/movie-marathon/
LOCATION:[{{{site.name}}}] {{poster.name}} mainitsi sinut tilapäivityksessä
CATEGORIES:Family Fun
END:VEVENT
END:VCALENDAR