BEGIN:VCALENDAR
VERSION:2.0
PRODID:-//Pohjois-Karjalan biosfäärialue - ECPv6.15.20//NONSGML v1.0//EN
CALSCALE:GREGORIAN
METHOD:PUBLISH
X-WR-CALNAME:Pohjois-Karjalan biosfäärialue
X-ORIGINAL-URL:https://kareliabiosphere.fi
X-WR-CALDESC:Tapahtumat Pohjois-Karjalan biosfäärialue
REFRESH-INTERVAL;VALUE=DURATION:PT1H
X-Robots-Tag:noindex
X-PUBLISHED-TTL:PT1H
BEGIN:VTIMEZONE
TZID:Europe/Helsinki
BEGIN:DAYLIGHT
TZOFFSETFROM:+0200
TZOFFSETTO:+0300
TZNAME:EEST
DTSTART:20130331T010000
END:DAYLIGHT
BEGIN:STANDARD
TZOFFSETFROM:+0300
TZOFFSETTO:+0200
TZNAME:EET
DTSTART:20131027T010000
END:STANDARD
BEGIN:DAYLIGHT
TZOFFSETFROM:+0200
TZOFFSETTO:+0300
TZNAME:EEST
DTSTART:20140330T010000
END:DAYLIGHT
BEGIN:STANDARD
TZOFFSETFROM:+0300
TZOFFSETTO:+0200
TZNAME:EET
DTSTART:20141026T010000
END:STANDARD
BEGIN:DAYLIGHT
TZOFFSETFROM:+0200
TZOFFSETTO:+0300
TZNAME:EEST
DTSTART:20150329T010000
END:DAYLIGHT
BEGIN:STANDARD
TZOFFSETFROM:+0300
TZOFFSETTO:+0200
TZNAME:EET
DTSTART:20151025T010000
END:STANDARD
BEGIN:DAYLIGHT
TZOFFSETFROM:+0200
TZOFFSETTO:+0300
TZNAME:EEST
DTSTART:20160327T010000
END:DAYLIGHT
BEGIN:STANDARD
TZOFFSETFROM:+0300
TZOFFSETTO:+0200
TZNAME:EET
DTSTART:20161030T010000
END:STANDARD
END:VTIMEZONE
BEGIN:VEVENT
DTSTART;VALUE=DATE:20150505
DTEND;VALUE=DATE:20150506
DTSTAMP:20260419T221931
CREATED:20150505T061527Z
LAST-MODIFIED:20150505T061527Z
UID:3043-1430784000-1430870399@kareliabiosphere.fi
SUMMARY:Help Children
DESCRIPTION:Fusce a ante nisl\, vitae pretium enim. Nunc imperdiet iaculis augue nec porta! Phasellus congue sapien eget libero ornare lobortis. Aliquam sit amet nulla velit\, in posuere tellus. Nul lorem.
URL:https://kareliabiosphere.fi/event/help-children/
LOCATION:[{{{site.name}}}] New message from {{sender.name}}
END:VEVENT
BEGIN:VEVENT
DTSTART;TZID=Europe/Helsinki:20140625T153000
DTEND;TZID=Europe/Helsinki:20140625T170000
DTSTAMP:20260419T221931
CREATED:20150506T062946Z
LAST-MODIFIED:20150506T062946Z
UID:3046-1403710200-1403715600@kareliabiosphere.fi
SUMMARY:Birthday Party
DESCRIPTION:Why do you think that she is a witch? He hasn’t got shit all over him. Well\, I didn’t vote for you. A newt? Look\, my liege! I don’t want to talk to you no more\, you empty-headed animal food trough water! I fart in your general direction! Your mother was a hamster and your father smelt of elderberries! Now leave before I am forced to taunt you a second time!
URL:https://kareliabiosphere.fi/event/birthday-party/
CATEGORIES:Party
END:VEVENT
BEGIN:VEVENT
DTSTART;TZID=Europe/Helsinki:20140615T120000
DTEND;TZID=Europe/Helsinki:20140615T133000
DTSTAMP:20260419T221931
CREATED:20150506T062946Z
LAST-MODIFIED:20150506T062946Z
UID:3052-1402833600-1402839000@kareliabiosphere.fi
SUMMARY:Board Meeting
DESCRIPTION:I have traced the Rebel spies to her. Now she is my only link to finding their secret base. What?! I care. So\, what do you think of her\, Han? The Force is strong with this one. I have you now. But with the blast shield down\, I can’t even see! How am I supposed to fight? Red Five standing by.
URL:https://kareliabiosphere.fi/event/board-meeting/
CATEGORIES:Meeting
END:VEVENT
END:VCALENDAR